BEGIN:VCALENDAR
VERSION:2.0
PRODID:-//Plone.org//NONSGML plone.app.event//EN
X-WR-TIMEZONE:Europe/Madrid
BEGIN:VEVENT
SUMMARY:Sant Vicenç 2015: Ball de Festa Major\, amb "Sergi & Betty"
DTSTART;VALUE=DATE:20150124
DTEND;VALUE=DATE:20150125
DTSTAMP;VALUE=DATE-TIME:20260423T152645Z
UID:45ff2f7feb8047a8b025dd3df9c6dfac@www.molletvalles.cat
CATEGORIES:Música\, cinema i espectacles
CREATED;VALUE=DATE-TIME:20150109T113134Z
LAST-MODIFIED;VALUE=DATE-TIME:20221222T003116Z
URL:https://www.molletvalles.cat/ca/actualitat/agenda/16001
END:VEVENT
END:VCALENDAR
