BEGIN:VCALENDAR
VERSION:2.0
PRODID:-//Plone.org//NONSGML plone.app.event//EN
X-WR-TIMEZONE:Europe/Madrid
BEGIN:VEVENT
SUMMARY:Sant Vicenç 2015: Inauguració de l'exposició "Martí Vivès" 
DTSTART;VALUE=DATE:20150129
DTEND;VALUE=DATE:20150130
DTSTAMP;VALUE=DATE-TIME:20260423T124544Z
UID:4616030079f344338e585c4231e21b0b@www.molletvalles.cat
CATEGORIES:Exposicions i fires
CREATED;VALUE=DATE-TIME:20150112T114216Z
LAST-MODIFIED;VALUE=DATE-TIME:20221222T003135Z
URL:https://www.molletvalles.cat/ca/actualitat/agenda/16009
END:VEVENT
END:VCALENDAR
