BEGIN:VCALENDAR
VERSION:2.0
PRODID:-//Plone.org//NONSGML plone.app.event//EN
X-WR-TIMEZONE:Europe/Madrid
BEGIN:VEVENT
SUMMARY:Sant Vicenç 2015: Recital poètic
DTSTART;VALUE=DATE:20150131
DTEND;VALUE=DATE:20150201
DTSTAMP;VALUE=DATE-TIME:20260423T124750Z
UID:0d2d30e86ab64a718b226b11c51f4de9@www.molletvalles.cat
CATEGORIES:Música\, cinema i espectacles
CREATED;VALUE=DATE-TIME:20150113T135555Z
LAST-MODIFIED;VALUE=DATE-TIME:20221222T003148Z
URL:https://www.molletvalles.cat/ca/actualitat/agenda/16014
END:VEVENT
END:VCALENDAR
