BEGIN:VCALENDAR
VERSION:2.0
PRODID:-//Plone.org//NONSGML plone.app.event//EN
X-WR-TIMEZONE:Europe/Madrid
BEGIN:VEVENT
SUMMARY:Exposició "Memòria fotogràfica del tèxtil a Mollet"
DTSTART;VALUE=DATE:20150128
DTEND;VALUE=DATE:20150129
DTSTAMP;VALUE=DATE-TIME:20260421T172943Z
UID:f1df0f33a9b14dbd9258ea7f1e1b636a@www.molletvalles.cat
CATEGORIES:Exposicions i fires
CREATED;VALUE=DATE-TIME:20150120T131549Z
LAST-MODIFIED;VALUE=DATE-TIME:20221222T003233Z
URL:https://www.molletvalles.cat/ca/actualitat/agenda/16035
END:VEVENT
END:VCALENDAR
