BEGIN:VCALENDAR
VERSION:2.0
PRODID:-//Plone.org//NONSGML plone.app.event//EN
X-WR-TIMEZONE:Europe/Madrid
BEGIN:VEVENT
SUMMARY:Carnaval 2015: Concurs de truites i desfilada de disfresses
DTSTART;VALUE=DATE:20150212
DTEND;VALUE=DATE:20150213
DTSTAMP;VALUE=DATE-TIME:20260421T105311Z
UID:09d1856e64254ac9b607df354e89bfd1@www.molletvalles.cat
CATEGORIES:Festes populars
CREATED;VALUE=DATE-TIME:20150130T080632Z
LAST-MODIFIED;VALUE=DATE-TIME:20221222T003351Z
LOCATION:Sala d'actes del Casal Cultural
URL:https://www.molletvalles.cat/ca/actualitat/agenda/16059
END:VEVENT
END:VCALENDAR
