BEGIN:VCALENDAR
VERSION:2.0
PRODID:-//Plone.org//NONSGML plone.app.event//EN
X-WR-TIMEZONE:Europe/Madrid
BEGIN:VEVENT
SUMMARY:L'Art és un joc: Taller de màscares (visita i taller per a nens 
 i nenes de 5 a 12 anys)
DTSTART;VALUE=DATE:20150208
DTEND;VALUE=DATE:20150209
DTSTAMP;VALUE=DATE-TIME:20260423T124744Z
UID:d7773ddaca37486bb74a7016901d0c66@www.molletvalles.cat
CATEGORIES:Cursos i tallers
CREATED;VALUE=DATE-TIME:20150204T121948Z
LAST-MODIFIED;VALUE=DATE-TIME:20221222T003458Z
URL:https://www.molletvalles.cat/ca/actualitat/agenda/16083
END:VEVENT
END:VCALENDAR
