BEGIN:VCALENDAR
VERSION:2.0
PRODID:-//Plone.org//NONSGML plone.app.event//EN
X-WR-TIMEZONE:Europe/Madrid
BEGIN:VEVENT
SUMMARY:Discoteca per a petits i grans
DTSTART;VALUE=DATE:20150227
DTEND;VALUE=DATE:20150228
DTSTAMP;VALUE=DATE-TIME:20260423T124745Z
UID:0c24e31010cb41d2bb1fad978c296514@www.molletvalles.cat
CATEGORIES:Música\, cinema i espectacles
CREATED;VALUE=DATE-TIME:20150209T080518Z
LAST-MODIFIED;VALUE=DATE-TIME:20221222T003546Z
URL:https://www.molletvalles.cat/ca/actualitat/agenda/16100
END:VEVENT
END:VCALENDAR
