BEGIN:VCALENDAR
VERSION:2.0
PRODID:-//Plone.org//NONSGML plone.app.event//EN
X-WR-TIMEZONE:Europe/Madrid
BEGIN:VEVENT
SUMMARY:Lliurament de les distincions cíviques "Per Mollet"
DTSTART;VALUE=DATE:20150222
DTEND;VALUE=DATE:20150223
DTSTAMP;VALUE=DATE-TIME:20260423T124457Z
UID:c78bf8c9a9e14259a69a6d4c229ef0c3@www.molletvalles.cat
CATEGORIES:Actes institucionals
CREATED;VALUE=DATE-TIME:20150209T131751Z
LAST-MODIFIED;VALUE=DATE-TIME:20221222T003554Z
URL:https://www.molletvalles.cat/ca/actualitat/agenda/16103
END:VEVENT
END:VCALENDAR
