BEGIN:VCALENDAR
VERSION:2.0
PRODID:-//Plone.org//NONSGML plone.app.event//EN
X-WR-TIMEZONE:Europe/Madrid
BEGIN:VEVENT
SUMMARY:Festival Solidari de Dansa: Dansem per Senegal
DTSTART;VALUE=DATE:20150214
DTEND;VALUE=DATE:20150215
DTSTAMP;VALUE=DATE-TIME:20260423T152602Z
UID:f3fc32cdcf47499290a1ed9f11aa63fe@www.molletvalles.cat
CATEGORIES:Música\, cinema i espectacles
CREATED;VALUE=DATE-TIME:20150209T132321Z
LAST-MODIFIED;VALUE=DATE-TIME:20221222T003555Z
URL:https://www.molletvalles.cat/ca/actualitat/agenda/16104
END:VEVENT
END:VCALENDAR
