BEGIN:VCALENDAR
VERSION:2.0
PRODID:-//Plone.org//NONSGML plone.app.event//EN
X-WR-TIMEZONE:Europe/Madrid
BEGIN:VEVENT
SUMMARY:Cicle de Xerrades Parlem de salut: "L'autoestima\, una font de sal
 ut"
DTSTART;VALUE=DATE:20150324
DTEND;VALUE=DATE:20150325
DTSTAMP;VALUE=DATE-TIME:20260425T161713Z
UID:69fa792b2f0f42f48cb548e62d1fc784@www.molletvalles.cat
CATEGORIES:Conferències
CREATED;VALUE=DATE-TIME:20150227T073349Z
LAST-MODIFIED;VALUE=DATE-TIME:20221222T003710Z
URL:https://www.molletvalles.cat/ca/actualitat/agenda/16146
END:VEVENT
END:VCALENDAR
