BEGIN:VCALENDAR
VERSION:2.0
PRODID:-//Plone.org//NONSGML plone.app.event//EN
X-WR-TIMEZONE:Europe/Madrid
BEGIN:VEVENT
SUMMARY:"Posa't les Piles especial 8 de març": Nous models de relació de
  parella entre joves
DTSTART;VALUE=DATE:20150309
DTEND;VALUE=DATE:20150310
DTSTAMP;VALUE=DATE-TIME:20260423T124459Z
UID:be32cecd76c94f6da3fc5acd93f3b9b9@www.molletvalles.cat
CATEGORIES:Conferències
CREATED;VALUE=DATE-TIME:20150227T122745Z
LAST-MODIFIED;VALUE=DATE-TIME:20221222T003734Z
LOCATION:Ràdio Mollet (96.3 fm)
URL:https://www.molletvalles.cat/ca/actualitat/agenda/16163
END:VEVENT
END:VCALENDAR
