BEGIN:VCALENDAR
VERSION:2.0
PRODID:-//Plone.org//NONSGML plone.app.event//EN
X-WR-TIMEZONE:Europe/Madrid
BEGIN:VEVENT
SUMMARY:Taller intensiu: Consciència de cos\, moviment i desbloqueig
DTSTART;VALUE=DATE:20150321
DTEND;VALUE=DATE:20150322
DTSTAMP;VALUE=DATE-TIME:20260423T124629Z
UID:6dd47c04060646459b30d10418dc2c4e@www.molletvalles.cat
CATEGORIES:Cursos i tallers
CREATED;VALUE=DATE-TIME:20150302T091245Z
LAST-MODIFIED;VALUE=DATE-TIME:20221222T003830Z
LOCATION:Anselm Clavé\, 67\, 3r pis (CRA'P)
URL:https://www.molletvalles.cat/ca/actualitat/agenda/16213
END:VEVENT
END:VCALENDAR
