BEGIN:VCALENDAR
VERSION:2.0
PRODID:-//Plone.org//NONSGML plone.app.event//EN
X-WR-TIMEZONE:Europe/Madrid
BEGIN:VEVENT
SUMMARY:8è Concurs de petons a la Rambla i 4t repartiment d'abraçades a 
 la Sala d'actes
DTSTART;VALUE=DATE:20150423
DTEND;VALUE=DATE:20150424
DTSTAMP;VALUE=DATE-TIME:20260421T172916Z
UID:4f4745c1a8c14b84b7921c02029b679e@www.molletvalles.cat
CATEGORIES:Festes populars
CREATED;VALUE=DATE-TIME:20150312T105121Z
LAST-MODIFIED;VALUE=DATE-TIME:20221222T003917Z
LOCATION:Rambles zona centre
URL:https://www.molletvalles.cat/ca/actualitat/agenda/16244
END:VEVENT
END:VCALENDAR
