BEGIN:VCALENDAR
VERSION:2.0
PRODID:-//Plone.org//NONSGML plone.app.event//EN
X-WR-TIMEZONE:Europe/Madrid
BEGIN:VEVENT
SUMMARY:XIX Caminda de Serralada de Marina
DTSTART;VALUE=DATE:20150517
DTEND;VALUE=DATE:20150518
DTSTAMP;VALUE=DATE-TIME:20260423T124651Z
UID:9f8d4287d65c498fb193b21e2afd05de@www.molletvalles.cat
CATEGORIES:Esports
CREATED;VALUE=DATE-TIME:20150312T112422Z
LAST-MODIFIED;VALUE=DATE-TIME:20221222T003932Z
URL:https://www.molletvalles.cat/ca/actualitat/agenda/16253
END:VEVENT
END:VCALENDAR
