BEGIN:VCALENDAR
VERSION:2.0
PRODID:-//Plone.org//NONSGML plone.app.event//EN
X-WR-TIMEZONE:Europe/Madrid
BEGIN:VEVENT
SUMMARY:Cloenda Mou-te
DTSTART;VALUE=DATE:20150618
DTEND;VALUE=DATE:20150619
DTSTAMP;VALUE=DATE-TIME:20260423T124743Z
UID:fd64b250dd8147cebd7a6b1bd6904a32@www.molletvalles.cat
CATEGORIES:Esports
CREATED;VALUE=DATE-TIME:20150312T115428Z
LAST-MODIFIED;VALUE=DATE-TIME:20221222T003944Z
LOCATION:Pavelló Ca n'Arimon
URL:https://www.molletvalles.cat/ca/actualitat/agenda/16263
END:VEVENT
END:VCALENDAR
