BEGIN:VCALENDAR
VERSION:2.0
PRODID:-//Plone.org//NONSGML plone.app.event//EN
X-WR-TIMEZONE:Europe/Madrid
BEGIN:VEVENT
SUMMARY:Xerrada: "El cervell musical"\, a càrrec de Carles Alòs\, psicò
 leg i audioprotesista
DTSTART;VALUE=DATE:20150323
DTEND;VALUE=DATE:20150324
DTSTAMP;VALUE=DATE-TIME:20260425T124253Z
UID:e58a3a6a19694bc9b9ec3fc103f2ad66@www.molletvalles.cat
CATEGORIES:Conferències
CREATED;VALUE=DATE-TIME:20150318T083436Z
LAST-MODIFIED;VALUE=DATE-TIME:20221222T003955Z
URL:https://www.molletvalles.cat/ca/actualitat/agenda/16268
END:VEVENT
END:VCALENDAR
