BEGIN:VCALENDAR
VERSION:2.0
PRODID:-//Plone.org//NONSGML plone.app.event//EN
X-WR-TIMEZONE:Europe/Madrid
BEGIN:VEVENT
SUMMARY:Pilar de Revetlla de Sant Joan\,Castellers de Mollet
DTSTART;VALUE=DATE:20150623
DTEND;VALUE=DATE:20150624
DTSTAMP;VALUE=DATE-TIME:20260419T163912Z
UID:efc0a269e4f0409ba631ddb0ea1c8841@www.molletvalles.cat
CATEGORIES:Festes populars
CREATED;VALUE=DATE-TIME:20150413T064809Z
LAST-MODIFIED;VALUE=DATE-TIME:20221222T004116Z
LOCATION:Plaça Catalunya
URL:https://www.molletvalles.cat/ca/actualitat/agenda/16385
END:VEVENT
END:VCALENDAR
