BEGIN:VCALENDAR
VERSION:2.0
PRODID:-//Plone.org//NONSGML plone.app.event//EN
X-WR-TIMEZONE:Europe/Madrid
BEGIN:VEVENT
SUMMARY:Club de lectura Pla 9: Utopies\, distopies i altres societats inqu
 ietants. Walden 2 de B.F. Skinner.
DTSTART;VALUE=DATE:20150519
DTEND;VALUE=DATE:20150520
DTSTAMP;VALUE=DATE-TIME:20260421T174438Z
UID:530da42287914573adeaa3c3326ad263@www.molletvalles.cat
CATEGORIES:Actes diversos
CREATED;VALUE=DATE-TIME:20150508T102528Z
LAST-MODIFIED;VALUE=DATE-TIME:20221222T004152Z
URL:https://www.molletvalles.cat/ca/actualitat/agenda/16426
END:VEVENT
END:VCALENDAR
