BEGIN:VCALENDAR
VERSION:2.0
PRODID:-//Plone.org//NONSGML plone.app.event//EN
X-WR-TIMEZONE:Europe/Madrid
BEGIN:VEVENT
SUMMARY:Festival fi de curs 2014/2015 de l'Escola de Música Pilar Torrico
DTSTART;VALUE=DATE:20150704
DTEND;VALUE=DATE:20150705
DTSTAMP;VALUE=DATE-TIME:20260423T124820Z
UID:2a9ad25acb6d496a856e9c27cd30fe6e@www.molletvalles.cat
CATEGORIES:Música\, cinema i espectacles
CREATED;VALUE=DATE-TIME:20150703T080824Z
LAST-MODIFIED;VALUE=DATE-TIME:20221222T004251Z
URL:https://www.molletvalles.cat/ca/actualitat/agenda/16480
END:VEVENT
END:VCALENDAR
