BEGIN:VCALENDAR
VERSION:2.0
PRODID:-//Plone.org//NONSGML plone.app.event//EN
X-WR-TIMEZONE:Europe/Madrid
BEGIN:VEVENT
SUMMARY:Bibliojardí: Taller."Teixim lligams amb les polseres de Candela"
DTSTART;VALUE=DATE:20150715
DTEND;VALUE=DATE:20150716
DTSTAMP;VALUE=DATE-TIME:20260423T124750Z
UID:4d838088462f4a2996e06442a5ef409b@www.molletvalles.cat
CATEGORIES:Cursos i tallers
CREATED;VALUE=DATE-TIME:20150713T064926Z
LAST-MODIFIED;VALUE=DATE-TIME:20221222T004305Z
URL:https://www.molletvalles.cat/ca/actualitat/agenda/16514
END:VEVENT
END:VCALENDAR
