BEGIN:VCALENDAR
VERSION:2.0
PRODID:-//Plone.org//NONSGML plone.app.event//EN
X-WR-TIMEZONE:Europe/Madrid
BEGIN:VEVENT
SUMMARY:Festa Major 2015: Sopar Torrat amb monòleg "Impro Show"
DTSTART;VALUE=DATE:20150813
DTEND;VALUE=DATE:20150814
DTSTAMP;VALUE=DATE-TIME:20260423T124745Z
UID:0496226d63c44ed88f0bf80a1d8da0cf@www.molletvalles.cat
CATEGORIES:Festes populars
CREATED;VALUE=DATE-TIME:20150716T075513Z
LAST-MODIFIED;VALUE=DATE-TIME:20221222T004312Z
URL:https://www.molletvalles.cat/ca/actualitat/agenda/16530
END:VEVENT
END:VCALENDAR
