BEGIN:VCALENDAR
VERSION:2.0
PRODID:-//Plone.org//NONSGML plone.app.event//EN
X-WR-TIMEZONE:Europe/Madrid
BEGIN:VEVENT
SUMMARY:Festa Major 2015: Concurs de disfresses de paper
DTSTART;VALUE=DATE:20150816
DTEND;VALUE=DATE:20150817
DTSTAMP;VALUE=DATE-TIME:20260423T104045Z
UID:0cc028c04791468cb9bce0aeaaedfd0d@www.molletvalles.cat
CATEGORIES:Festes populars
CREATED;VALUE=DATE-TIME:20150723T105130Z
LAST-MODIFIED;VALUE=DATE-TIME:20221222T004325Z
LOCATION:Rambla Balmes
URL:https://www.molletvalles.cat/ca/actualitat/agenda/16567
END:VEVENT
END:VCALENDAR
