BEGIN:VCALENDAR
VERSION:2.0
PRODID:-//Plone.org//NONSGML plone.app.event//EN
X-WR-TIMEZONE:Europe/Madrid
BEGIN:VEVENT
SUMMARY:Festa Major 2015: Doble sessió de cinema infantil-familiar a la f
 resca. "Big Hero" i "La família Bélier"
DTSTART;VALUE=DATE:20150816
DTEND;VALUE=DATE:20150817
DTSTAMP;VALUE=DATE-TIME:20260423T124543Z
UID:c2f9e50907b24d60aa301bc467784607@www.molletvalles.cat
CATEGORIES:Festes populars
CREATED;VALUE=DATE-TIME:20150724T072835Z
LAST-MODIFIED;VALUE=DATE-TIME:20221222T004328Z
LOCATION:Parc de les Pruneres
URL:https://www.molletvalles.cat/ca/actualitat/agenda/16574
END:VEVENT
END:VCALENDAR
