BEGIN:VCALENDAR
VERSION:2.0
PRODID:-//Plone.org//NONSGML plone.app.event//EN
X-WR-TIMEZONE:Europe/Madrid
BEGIN:VEVENT
SUMMARY:Festa Major 2015: Ball de la Gent Gran\, amb el ball de rams
DTSTART;VALUE=DATE:20150817
DTEND;VALUE=DATE:20150818
DTSTAMP;VALUE=DATE-TIME:20260421T174438Z
UID:81e8bdd7094d4ec0b892566a8327fcca@www.molletvalles.cat
CATEGORIES:Festes populars
CREATED;VALUE=DATE-TIME:20150724T124813Z
LAST-MODIFIED;VALUE=DATE-TIME:20221222T004331Z
URL:https://www.molletvalles.cat/ca/actualitat/agenda/16583
END:VEVENT
END:VCALENDAR
