BEGIN:VCALENDAR
VERSION:2.0
PRODID:-//Plone.org//NONSGML plone.app.event//EN
X-WR-TIMEZONE:Europe/Madrid
BEGIN:VEVENT
SUMMARY:Festa de la Solidaritat 2015: Festa solidària. Mollet pel Nepal
DTSTART;VALUE=DATE:20151004
DTEND;VALUE=DATE:20151005
DTSTAMP;VALUE=DATE-TIME:20260423T133615Z
UID:f96494c7b17c493394f7b04979ba4f71@www.molletvalles.cat
CATEGORIES:Actes diversos
CREATED;VALUE=DATE-TIME:20150908T104858Z
LAST-MODIFIED;VALUE=DATE-TIME:20221222T004419Z
LOCATION:Plaça Prat de la Riba
URL:https://www.molletvalles.cat/ca/actualitat/agenda/16662
END:VEVENT
END:VCALENDAR
