BEGIN:VCALENDAR
VERSION:2.0
PRODID:-//Plone.org//NONSGML plone.app.event//EN
X-WR-TIMEZONE:Europe/Madrid
BEGIN:VEVENT
SUMMARY:Presentació del llibre: "La luz de Derkac. Certeza" de l'autora l
 ocal Jim Megal.
DTSTART;VALUE=DATE:20151002
DTEND;VALUE=DATE:20151003
DTSTAMP;VALUE=DATE-TIME:20260423T152310Z
UID:cf26f13ed2f94d7291c9c475ab137f58@www.molletvalles.cat
CATEGORIES:Conferències
CREATED;VALUE=DATE-TIME:20150922T111029Z
LAST-MODIFIED;VALUE=DATE-TIME:20221222T004448Z
URL:https://www.molletvalles.cat/ca/actualitat/agenda/16708
END:VEVENT
END:VCALENDAR
