BEGIN:VCALENDAR
VERSION:2.0
PRODID:-//Plone.org//NONSGML plone.app.event//EN
X-WR-TIMEZONE:Europe/Madrid
BEGIN:VEVENT
SUMMARY:Ofrena floral 75è aniversari de l'afusellament de Lluís companys
DTSTART;VALUE=DATE:20151015
DTEND;VALUE=DATE:20151016
DTSTAMP;VALUE=DATE-TIME:20260419T164050Z
UID:540dfac373854ce9ab5694b7d7326fea@www.molletvalles.cat
CATEGORIES:Actes institucionals
CREATED;VALUE=DATE-TIME:20151007T100929Z
LAST-MODIFIED;VALUE=DATE-TIME:20221222T004521Z
LOCATION:Parc Lluis Companys	
URL:https://www.molletvalles.cat/ca/actualitat/agenda/16742
END:VEVENT
END:VCALENDAR
