BEGIN:VCALENDAR
VERSION:2.0
PRODID:-//Plone.org//NONSGML plone.app.event//EN
X-WR-TIMEZONE:Europe/Madrid
BEGIN:VEVENT
SUMMARY:Sona Marineta: "Trio Jakob"
DTSTART;VALUE=DATE:20160429
DTEND;VALUE=DATE:20160430
DTSTAMP;VALUE=DATE-TIME:20260423T124302Z
UID:89c600bcfca64cd6b2849d1f33d38b2e@www.molletvalles.cat
CATEGORIES:Música\, cinema i espectacles
CREATED;VALUE=DATE-TIME:20151023T115732Z
LAST-MODIFIED;VALUE=DATE-TIME:20221222T004625Z
URL:https://www.molletvalles.cat/ca/actualitat/agenda/16794
END:VEVENT
END:VCALENDAR
