BEGIN:VCALENDAR
VERSION:2.0
PRODID:-//Plone.org//NONSGML plone.app.event//EN
X-WR-TIMEZONE:Europe/Madrid
BEGIN:VEVENT
SUMMARY:La Tertuliana: "Del fracàs escolar a l'autoestima"
DTSTART;VALUE=DATE:20151126
DTEND;VALUE=DATE:20151127
DTSTAMP;VALUE=DATE-TIME:20260419T163914Z
UID:a73a0b4666b6434cbce7c4fc67f06c49@www.molletvalles.cat
CATEGORIES:Conferències
CREATED;VALUE=DATE-TIME:20151103T140933Z
LAST-MODIFIED;VALUE=DATE-TIME:20221222T004706Z
URL:https://www.molletvalles.cat/ca/actualitat/agenda/16832
END:VEVENT
END:VCALENDAR
