BEGIN:VCALENDAR
VERSION:2.0
PRODID:-//Plone.org//NONSGML plone.app.event//EN
X-WR-TIMEZONE:Europe/Madrid
BEGIN:VEVENT
SUMMARY:VI Jornada de Voluntariat Social a Mollet
DTSTART;VALUE=DATE:20151202
DTEND;VALUE=DATE:20151203
DTSTAMP;VALUE=DATE-TIME:20260423T152612Z
UID:5314e848ec004d6c91792e59a15a056e@www.molletvalles.cat
CATEGORIES:Conferències
CREATED;VALUE=DATE-TIME:20151123T134513Z
LAST-MODIFIED;VALUE=DATE-TIME:20221222T004812Z
LOCATION:Centre de Serveis El Lledoner
URL:https://www.molletvalles.cat/ca/actualitat/agenda/16894
END:VEVENT
END:VCALENDAR
