BEGIN:VCALENDAR
VERSION:2.0
PRODID:-//Plone.org//NONSGML plone.app.event//EN
X-WR-TIMEZONE:Europe/Madrid
BEGIN:VEVENT
SUMMARY:Dia Internacional de les Persones amb Discapacitat: Festa del Tió
  a la Residència i CAE La Vinyota
DTSTART;VALUE=DATE:20151223
DTEND;VALUE=DATE:20151224
DTSTAMP;VALUE=DATE-TIME:20260423T133604Z
UID:2dc9a56d5afc49dfbb179c45963f4374@www.molletvalles.cat
CATEGORIES:Festes populars
CREATED;VALUE=DATE-TIME:20151126T115628Z
LAST-MODIFIED;VALUE=DATE-TIME:20221222T004846Z
URL:https://www.molletvalles.cat/ca/actualitat/agenda/16917
END:VEVENT
END:VCALENDAR
