BEGIN:VCALENDAR
VERSION:2.0
PRODID:-//Plone.org//NONSGML plone.app.event//EN
X-WR-TIMEZONE:Europe/Madrid
BEGIN:VEVENT
SUMMARY:Taller de Reis
DTSTART;VALUE=DATE:20160103
DTEND;VALUE=DATE:20160104
DTSTAMP;VALUE=DATE-TIME:20260419T163719Z
UID:b547950bf4ee49f6ae18d27143c51fc4@www.molletvalles.cat
CATEGORIES:Cursos i tallers
CREATED;VALUE=DATE-TIME:20151130T124947Z
LAST-MODIFIED;VALUE=DATE-TIME:20221222T004856Z
URL:https://www.molletvalles.cat/ca/actualitat/agenda/16932
END:VEVENT
END:VCALENDAR
