BEGIN:VCALENDAR
VERSION:2.0
PRODID:-//Plone.org//NONSGML plone.app.event//EN
X-WR-TIMEZONE:Europe/Madrid
BEGIN:VEVENT
SUMMARY:Sant Vicenç 2016: Inauguració de l'exposició i lliurament de pr
 emis del "XXI Concurs de Fotografia Sant Vicenç 2016"
DTSTART;VALUE=DATE:20160115
DTEND;VALUE=DATE:20160116
DTSTAMP;VALUE=DATE-TIME:20260419T163820Z
UID:de359cb65509469ab6464cadff7630b1@www.molletvalles.cat
CATEGORIES:Exposicions i fires
CREATED;VALUE=DATE-TIME:20151223T091230Z
LAST-MODIFIED;VALUE=DATE-TIME:20221222T004932Z
URL:https://www.molletvalles.cat/ca/actualitat/agenda/16975
END:VEVENT
END:VCALENDAR
