BEGIN:VCALENDAR
VERSION:2.0
PRODID:-//Plone.org//NONSGML plone.app.event//EN
X-WR-TIMEZONE:Europe/Madrid
BEGIN:VEVENT
SUMMARY:Club de lectura: "Pedra de tartera" de Maria Barbal
DTSTART;VALUE=DATE:20160301
DTEND;VALUE=DATE:20160302
DTSTAMP;VALUE=DATE-TIME:20260423T134934Z
UID:618cf802c9d648dca4cd1b4c5b81f018@www.molletvalles.cat
CATEGORIES:Conferències
CREATED;VALUE=DATE-TIME:20160224T085158Z
LAST-MODIFIED;VALUE=DATE-TIME:20221222T005550Z
URL:https://www.molletvalles.cat/ca/actualitat/agenda/17186
END:VEVENT
END:VCALENDAR
