BEGIN:VCALENDAR
VERSION:2.0
PRODID:-//Plone.org//NONSGML plone.app.event//EN
X-WR-TIMEZONE:Europe/Madrid
BEGIN:VEVENT
SUMMARY:Xerrada Parlem de Salut: "Alimentació saludable o dietes miraculo
 ses... tria bé!!"
DTSTART;VALUE=DATE:20160405
DTEND;VALUE=DATE:20160406
DTSTAMP;VALUE=DATE-TIME:20260423T124750Z
UID:c15f465af0bf4041946f36d0769adbd7@www.molletvalles.cat
CATEGORIES:Conferències
CREATED;VALUE=DATE-TIME:20160225T124705Z
LAST-MODIFIED;VALUE=DATE-TIME:20221222T005600Z
URL:https://www.molletvalles.cat/ca/actualitat/agenda/17201
END:VEVENT
END:VCALENDAR
