BEGIN:VCALENDAR
VERSION:2.0
PRODID:-//Plone.org//NONSGML plone.app.event//EN
X-WR-TIMEZONE:Europe/Madrid
BEGIN:VEVENT
SUMMARY:Diada Castellera de Sant Jordi
DTSTART;VALUE=DATE:20160424
DTEND;VALUE=DATE:20160425
DTSTAMP;VALUE=DATE-TIME:20260423T124400Z
UID:ddf3a82b61334fddae9570bf4150b334@www.molletvalles.cat
CATEGORIES:Festes populars
CREATED;VALUE=DATE-TIME:20160309T085552Z
LAST-MODIFIED;VALUE=DATE-TIME:20221222T005712Z
LOCATION:Plaça Prat de la Riba
URL:https://www.molletvalles.cat/ca/actualitat/agenda/17232
END:VEVENT
END:VCALENDAR
