BEGIN:VCALENDAR
VERSION:2.0
PRODID:-//Plone.org//NONSGML plone.app.event//EN
X-WR-TIMEZONE:Europe/Madrid
BEGIN:VEVENT
SUMMARY:Sopar i espectacle: "Humor en tota regla"
DTSTART;VALUE=DATE:20160610
DTEND;VALUE=DATE:20160611
DTSTAMP;VALUE=DATE-TIME:20260423T152606Z
UID:52d8d7e49efb479b8eb1e79240c99ee9@www.molletvalles.cat
CATEGORIES:Música\, cinema i espectacles
CREATED;VALUE=DATE-TIME:20160321T093358Z
LAST-MODIFIED;VALUE=DATE-TIME:20221222T005922Z
URL:https://www.molletvalles.cat/ca/actualitat/agenda/17285
END:VEVENT
END:VCALENDAR
