BEGIN:VCALENDAR
VERSION:2.0
PRODID:-//Plone.org//NONSGML plone.app.event//EN
X-WR-TIMEZONE:Europe/Madrid
BEGIN:VEVENT
SUMMARY:10a Mostra Internacional de Titelles de Mollet del Vallès: Parade
 s de titelles d'artesania
DTSTART;VALUE=DATE:20160417
DTEND;VALUE=DATE:20160418
DTSTAMP;VALUE=DATE-TIME:20260419T163819Z
UID:aeaa8031b6ee4511a071c9067a4d99f3@www.molletvalles.cat
CATEGORIES:Música\, cinema i espectacles
CREATED;VALUE=DATE-TIME:20160405T082347Z
LAST-MODIFIED;VALUE=DATE-TIME:20221222T010126Z
URL:https://www.molletvalles.cat/ca/actualitat/agenda/17332
END:VEVENT
END:VCALENDAR
