BEGIN:VCALENDAR
VERSION:2.0
PRODID:-//Plone.org//NONSGML plone.app.event//EN
X-WR-TIMEZONE:Europe/Madrid
BEGIN:VEVENT
SUMMARY:Inauguració Exposició: "Paisatges urbans i rurals" de Josep Pér
 ez Mateos
DTSTART;VALUE=DATE:20160520
DTEND;VALUE=DATE:20160521
DTSTAMP;VALUE=DATE-TIME:20260423T142230Z
UID:1d7906670d594100be75e69f8a349b7f@www.molletvalles.cat
CATEGORIES:Exposicions i fires
CREATED;VALUE=DATE-TIME:20160519T082713Z
LAST-MODIFIED;VALUE=DATE-TIME:20221222T010553Z
URL:https://www.molletvalles.cat/ca/actualitat/agenda/17433
END:VEVENT
END:VCALENDAR
