BEGIN:VCALENDAR
VERSION:2.0
PRODID:-//Plone.org//NONSGML plone.app.event//EN
X-WR-TIMEZONE:Europe/Madrid
BEGIN:VEVENT
SUMMARY:Exposició: "Com emmalaltim?"
DTSTART;VALUE=DATE:20160530
DTEND;VALUE=DATE:20160531
DTSTAMP;VALUE=DATE-TIME:20260423T133649Z
UID:fca8eeded3884b7c9da441ec0f3c4c05@www.molletvalles.cat
CATEGORIES:Exposicions i fires
CREATED;VALUE=DATE-TIME:20160519T131645Z
LAST-MODIFIED;VALUE=DATE-TIME:20221222T010604Z
URL:https://www.molletvalles.cat/ca/actualitat/agenda/17438
END:VEVENT
END:VCALENDAR
