BEGIN:VCALENDAR
VERSION:2.0
PRODID:-//Plone.org//NONSGML plone.app.event//EN
X-WR-TIMEZONE:Europe/Madrid
BEGIN:VEVENT
SUMMARY:Exposició: "10 anys\, 10 vivències al Casal Obert de Mollet"
DTSTART;VALUE=DATE:20160517
DTEND;VALUE=DATE:20160518
DTSTAMP;VALUE=DATE-TIME:20260421T105311Z
UID:8eed0838a49b45efb6462e6d6697f1f0@www.molletvalles.cat
CATEGORIES:Exposicions i fires
CREATED;VALUE=DATE-TIME:20160526T131304Z
LAST-MODIFIED;VALUE=DATE-TIME:20221222T010644Z
URL:https://www.molletvalles.cat/ca/actualitat/agenda/17451
END:VEVENT
END:VCALENDAR
