BEGIN:VCALENDAR
VERSION:2.0
PRODID:-//Plone.org//NONSGML plone.app.event//EN
X-WR-TIMEZONE:Europe/Madrid
BEGIN:VEVENT
SUMMARY:10è aniversari del Casal Obert. Casal a la Fresca: Jocs\, tallers
 \, esports\, mamafit\, concursos 
DTSTART;VALUE=DATE:20160527
DTEND;VALUE=DATE:20160528
DTSTAMP;VALUE=DATE-TIME:20260423T124750Z
UID:4c49166f33d94ff3b7decc5517112534@www.molletvalles.cat
CATEGORIES:Infantils
CREATED;VALUE=DATE-TIME:20160526T132037Z
LAST-MODIFIED;VALUE=DATE-TIME:20221222T010644Z
LOCATION:Parc dels Colors i Pati Salvat Papasseit
URL:https://www.molletvalles.cat/ca/actualitat/agenda/17452
END:VEVENT
END:VCALENDAR
