BEGIN:VCALENDAR
VERSION:2.0
PRODID:-//Plone.org//NONSGML plone.app.event//EN
X-WR-TIMEZONE:Europe/Madrid
BEGIN:VEVENT
SUMMARY:Inauguració del Racó de l'artista: "Biblioteca inèdita"\, de Gr
 aciela Parramón
DTSTART;VALUE=DATE:20160630
DTEND;VALUE=DATE:20160701
DTSTAMP;VALUE=DATE-TIME:20260423T124422Z
UID:f25b2b70120041e3abda1f50b861e77f@www.molletvalles.cat
CATEGORIES:Exposicions i fires
CREATED;VALUE=DATE-TIME:20160622T070802Z
LAST-MODIFIED;VALUE=DATE-TIME:20221222T010833Z
URL:https://www.molletvalles.cat/ca/actualitat/agenda/17501
END:VEVENT
END:VCALENDAR
