BEGIN:VCALENDAR
VERSION:2.0
PRODID:-//Plone.org//NONSGML plone.app.event//EN
X-WR-TIMEZONE:Europe/Madrid
BEGIN:VEVENT
SUMMARY:Setè Open Catalunya de Billar Americà
DTSTART;VALUE=DATE:20160708
DTEND;VALUE=DATE:20160709
DTSTAMP;VALUE=DATE-TIME:20260419T163915Z
UID:3420584421044ba2bd2575343a0b385f@www.molletvalles.cat
CATEGORIES:Esports
CREATED;VALUE=DATE-TIME:20160629T094400Z
LAST-MODIFIED;VALUE=DATE-TIME:20221222T010913Z
URL:https://www.molletvalles.cat/ca/actualitat/agenda/17515
END:VEVENT
END:VCALENDAR
