BEGIN:VCALENDAR
VERSION:2.0
PRODID:-//Plone.org//NONSGML plone.app.event//EN
X-WR-TIMEZONE:Europe/Madrid
BEGIN:VEVENT
SUMMARY:Taller: Els cuinetes
DTSTART;VALUE=DATE:20160707
DTEND;VALUE=DATE:20160708
DTSTAMP;VALUE=DATE-TIME:20260421T183050Z
UID:c8cdad74c9f743fd8e2b1596bfd476be@www.molletvalles.cat
CATEGORIES:Cursos i tallers
CREATED;VALUE=DATE-TIME:20160706T103224Z
LAST-MODIFIED;VALUE=DATE-TIME:20221222T010940Z
URL:https://www.molletvalles.cat/ca/actualitat/agenda/17530
END:VEVENT
END:VCALENDAR
