BEGIN:VCALENDAR
VERSION:2.0
PRODID:-//Plone.org//NONSGML plone.app.event//EN
X-WR-TIMEZONE:Europe/Madrid
BEGIN:VEVENT
SUMMARY:Festa d'arribada de l'estiu als barris de Plana Lledó i Can Borre
 ll
DTSTART;VALUE=DATE:20160722
DTEND;VALUE=DATE:20160723
DTSTAMP;VALUE=DATE-TIME:20260423T124458Z
UID:917b291f389143288064522974fa8697@www.molletvalles.cat
CATEGORIES:Festes populars
CREATED;VALUE=DATE-TIME:20160706T114948Z
LAST-MODIFIED;VALUE=DATE-TIME:20221222T010948Z
LOCATION:Carrer d'Agricultura\, cantonada carrer de Gallecs
URL:https://www.molletvalles.cat/ca/actualitat/agenda/17533
END:VEVENT
END:VCALENDAR
