BEGIN:VCALENDAR
VERSION:2.0
PRODID:-//Plone.org//NONSGML plone.app.event//EN
X-WR-TIMEZONE:Europe/Madrid
BEGIN:VEVENT
SUMMARY:Festa Major 2016: VIII Concurs de curts cinematogràfics a la fres
 ca
DTSTART;VALUE=DATE:20160817
DTEND;VALUE=DATE:20160818
DTSTAMP;VALUE=DATE-TIME:20260423T124309Z
UID:609919e6ee6a46e9a17d9838a1ea9e4c@www.molletvalles.cat
CATEGORIES:Festes populars
CREATED;VALUE=DATE-TIME:20160720T130652Z
LAST-MODIFIED;VALUE=DATE-TIME:20221222T011115Z
URL:https://www.molletvalles.cat/ca/actualitat/agenda/17565
END:VEVENT
END:VCALENDAR
