BEGIN:VCALENDAR
VERSION:2.0
PRODID:-//Plone.org//NONSGML plone.app.event//EN
X-WR-TIMEZONE:Europe/Madrid
BEGIN:VEVENT
SUMMARY:Festa Major 2016: Concurs de vídeojocs
DTSTART;VALUE=DATE:20160818
DTEND;VALUE=DATE:20160819
DTSTAMP;VALUE=DATE-TIME:20260421T183050Z
UID:f20a60fb886741bba8a78e850b6abb59@www.molletvalles.cat
CATEGORIES:Festes populars
CREATED;VALUE=DATE-TIME:20160721T082743Z
LAST-MODIFIED;VALUE=DATE-TIME:20221222T011122Z
URL:https://www.molletvalles.cat/ca/actualitat/agenda/17568
END:VEVENT
END:VCALENDAR
