BEGIN:VCALENDAR
VERSION:2.0
PRODID:-//Plone.org//NONSGML plone.app.event//EN
X-WR-TIMEZONE:Europe/Madrid
BEGIN:VEVENT
SUMMARY:Jornades Europees del Patrimoni: Taller familiar "Som arqueòlegs"
DTSTART;VALUE=DATE:20160917
DTEND;VALUE=DATE:20160918
DTSTAMP;VALUE=DATE-TIME:20260423T124751Z
UID:c97bd4a425624e0582e946695fbbdfb5@www.molletvalles.cat
CATEGORIES:Cursos i tallers
CREATED;VALUE=DATE-TIME:20160722T091645Z
LAST-MODIFIED;VALUE=DATE-TIME:20221222T011248Z
LOCATION:Jardí literari de la Biblioteca Can Mulà
URL:https://www.molletvalles.cat/ca/actualitat/agenda/17601
END:VEVENT
END:VCALENDAR
