BEGIN:VCALENDAR
VERSION:2.0
PRODID:-//Plone.org//NONSGML plone.app.event//EN
X-WR-TIMEZONE:Europe/Madrid
BEGIN:VEVENT
SUMMARY:Festa Major 2016: Espectacle "Corbacho 5.0"\, amb José Corbacho
DTSTART;VALUE=DATE:20160821
DTEND;VALUE=DATE:20160822
DTSTAMP;VALUE=DATE-TIME:20260419T163819Z
UID:93fbe6ea1b0f4d31acb094a902be814b@www.molletvalles.cat
CATEGORIES:Música\, cinema i espectacles
CREATED;VALUE=DATE-TIME:20160726T074935Z
LAST-MODIFIED;VALUE=DATE-TIME:20221222T011411Z
LOCATION:Envelat
URL:https://www.molletvalles.cat/ca/actualitat/agenda/17632
END:VEVENT
END:VCALENDAR
